BEGIN:VCALENDAR
VERSION:2.0
PRODID:-//Feelgood Communities CIC - ECPv6.15.17.1//NONSGML v1.0//EN
CALSCALE:GREGORIAN
METHOD:PUBLISH
X-WR-CALNAME:Feelgood Communities CIC
X-ORIGINAL-URL:https://feelgoodcommunities.org
X-WR-CALDESC:Events for Feelgood Communities CIC
REFRESH-INTERVAL;VALUE=DURATION:PT1H
X-Robots-Tag:noindex
X-PUBLISHED-TTL:PT1H
BEGIN:VTIMEZONE
TZID:Europe/London
BEGIN:DAYLIGHT
TZOFFSETFROM:+0000
TZOFFSETTO:+0100
TZNAME:BST
DTSTART:20240331T010000
END:DAYLIGHT
BEGIN:STANDARD
TZOFFSETFROM:+0100
TZOFFSETTO:+0000
TZNAME:GMT
DTSTART:20241027T010000
END:STANDARD
BEGIN:DAYLIGHT
TZOFFSETFROM:+0000
TZOFFSETTO:+0100
TZNAME:BST
DTSTART:20250330T010000
END:DAYLIGHT
BEGIN:STANDARD
TZOFFSETFROM:+0100
TZOFFSETTO:+0000
TZNAME:GMT
DTSTART:20251026T010000
END:STANDARD
BEGIN:DAYLIGHT
TZOFFSETFROM:+0000
TZOFFSETTO:+0100
TZNAME:BST
DTSTART:20260329T010000
END:DAYLIGHT
BEGIN:STANDARD
TZOFFSETFROM:+0100
TZOFFSETTO:+0000
TZNAME:GMT
DTSTART:20261025T010000
END:STANDARD
END:VTIMEZONE
BEGIN:VEVENT
DTSTART;TZID=Europe/London:20251128T103000
DTEND;TZID=Europe/London:20251128T120000
DTSTAMP:20260422T004532
CREATED:20251125T204913Z
LAST-MODIFIED:20251125T210836Z
UID:1110-1764325800-1764331200@feelgoodcommunities.org
SUMMARY:The Feelgood Crochet Club – Make Good\, Cheadle Heath
DESCRIPTION:Join us on the last Friday of every month for a gentle\, friendly crochet session at Make Good in Cheadle Heath. These sessions are fully funded\, so they’re free to attend and open to anyone who wants a bit of creative calm. \nWhether you’re just starting out or you’ve been hooking for years\, you can come along\, have a cuppa\, and enjoy some mindful making with lovely people. Each month we work on relaxed projects\, learn new stitches\, chat\, unwind\, and leave feeling that little bit lighter. \nIt’s all about creativity\, connection\, and feeling good. \nLocation: Make Good\, Cheadle HeathWhen: Last Friday of the monthCost: Fully funded – free to attend
URL:https://feelgoodcommunities.org/event/the-feelgood-crochet-club-make-good-cheadle-heath/
LOCATION:Make Good\, 238 Stockport Rd\,\, Stockport\, SK3 0LX
CATEGORIES:Feelgood Crochet Club,High Vibes Crochet
END:VEVENT
BEGIN:VEVENT
DTSTART;TZID=Europe/London:20251124T183000
DTEND;TZID=Europe/London:20251124T203000
DTSTAMP:20260422T004532
CREATED:20251028T121707Z
LAST-MODIFIED:20251028T122616Z
UID:896-1764009000-1764016200@feelgoodcommunities.org
SUMMARY:Christmas Crochet Decorations\, Benito Lounge\, November 24th
DESCRIPTION:Christmas Crochet Decorations \nTrees for beginners or Baubles for improvers. \nEverything is included for £20 per person. \nAny problems with booking\, please email highvibescrochet@outlook.com
URL:https://feelgoodcommunities.org/event/christmas-crochet-decorations-3/
LOCATION:Benito Lounge\, Chorlton\, 595\, 597 Wilbraham Rd\, Chorlton-cum-Hardy\, Manchester M21 9AJ\, Manchester\, Greater Manchester\, M21 9AJ\, United Kingdom
CATEGORIES:Christmas Crochet Decorations,High Vibes Crochet
ATTACH;FMTTYPE=image/png:https://feelgoodcommunities.org/wp-content/uploads/2025/10/Christmas-Crochette-3.png
ORGANIZER;CN="Feelgood Communities CIC":MAILTO:info@feelgoodcommunities.org
END:VEVENT
BEGIN:VEVENT
DTSTART;TZID=Europe/London:20251116T130000
DTEND;TZID=Europe/London:20251116T140000
DTSTAMP:20260422T004532
CREATED:20251110T170836Z
LAST-MODIFIED:20251110T170836Z
UID:972-1763298000-1763301600@feelgoodcommunities.org
SUMMARY:Gorton Laughter and Wellbeing Club
DESCRIPTION:Join Robin and Claire from 1-2pm for an hour of wholesome laughter and playfulness\, with simple exercises based on breath and laughter and openness. \nBased on Laughter Yoga (it’s not about comedy and telling jokes)\, enjoy some gentle stretches and laughter games and maybe a laughter meditation! \nSuitable for everyone\, but if you have health considerations then check out the guidance before attending (Google search on Laughter Yoga Contraindications)\, or email robin@feelgoodcommunities.org . \nLet’s see if we can laugh ourselves happier\, healthier and calmer together! \nFree event!
URL:https://feelgoodcommunities.org/event/gorton-laughter-and-wellbeing-club/
LOCATION:Gorton Monastery\, 89 Gorton Ln\, Manchester M12 5WF\, Manchester\, Greater Manchester\, M12 5WF\, United Kingdom
CATEGORIES:Laughter Club
ORGANIZER;CN="Feelgood Communities CIC":MAILTO:info@feelgoodcommunities.org
END:VEVENT
BEGIN:VEVENT
DTSTART;TZID=Europe/London:20251113T183000
DTEND;TZID=Europe/London:20251113T203000
DTSTAMP:20260422T004532
CREATED:20251028T113318Z
LAST-MODIFIED:20251028T122510Z
UID:863-1763058600-1763065800@feelgoodcommunities.org
SUMMARY:Christmas Crochet Decorations\, Berretto Lounge\, November 13th
DESCRIPTION:Christmas Crochet Decorations \nTrees for beginners or Baubles for improvers. \nEverything is included for £20 per person. \nAny problems with booking\, please email highvibescrochet@outlook.com
URL:https://feelgoodcommunities.org/event/christmas-crochet-decorations/
LOCATION:Berretto Lounge\, Stockport\, REDROCK\, Bridgefield St\, Stockport SK1 1SA\, Stockport\, Stockport\, SK1 1SA\, United Kingdom
CATEGORIES:Christmas Crochet Decorations,High Vibes Crochet
ATTACH;FMTTYPE=image/png:https://feelgoodcommunities.org/wp-content/uploads/2025/10/Christmas-Crochette-3.png
ORGANIZER;CN="Feelgood Communities CIC":MAILTO:info@feelgoodcommunities.org
END:VEVENT
END:VCALENDAR