BEGIN:VCALENDAR
VERSION:2.0
PRODID:-//Feelgood Communities CIC - ECPv6.15.17.1//NONSGML v1.0//EN
CALSCALE:GREGORIAN
METHOD:PUBLISH
X-ORIGINAL-URL:https://feelgoodcommunities.org
X-WR-CALDESC:Events for Feelgood Communities CIC
REFRESH-INTERVAL;VALUE=DURATION:PT1H
X-Robots-Tag:noindex
X-PUBLISHED-TTL:PT1H
BEGIN:VTIMEZONE
TZID:Europe/London
BEGIN:DAYLIGHT
TZOFFSETFROM:+0000
TZOFFSETTO:+0100
TZNAME:BST
DTSTART:20240331T010000
END:DAYLIGHT
BEGIN:STANDARD
TZOFFSETFROM:+0100
TZOFFSETTO:+0000
TZNAME:GMT
DTSTART:20241027T010000
END:STANDARD
BEGIN:DAYLIGHT
TZOFFSETFROM:+0000
TZOFFSETTO:+0100
TZNAME:BST
DTSTART:20250330T010000
END:DAYLIGHT
BEGIN:STANDARD
TZOFFSETFROM:+0100
TZOFFSETTO:+0000
TZNAME:GMT
DTSTART:20251026T010000
END:STANDARD
BEGIN:DAYLIGHT
TZOFFSETFROM:+0000
TZOFFSETTO:+0100
TZNAME:BST
DTSTART:20260329T010000
END:DAYLIGHT
BEGIN:STANDARD
TZOFFSETFROM:+0100
TZOFFSETTO:+0000
TZNAME:GMT
DTSTART:20261025T010000
END:STANDARD
END:VTIMEZONE
BEGIN:VEVENT
DTSTART;TZID=Europe/London:20251124T183000
DTEND;TZID=Europe/London:20251124T203000
DTSTAMP:20260421T111559
CREATED:20251028T121707Z
LAST-MODIFIED:20251028T122616Z
UID:896-1764009000-1764016200@feelgoodcommunities.org
SUMMARY:Christmas Crochet Decorations\, Benito Lounge\, November 24th
DESCRIPTION:Christmas Crochet Decorations \nTrees for beginners or Baubles for improvers. \nEverything is included for £20 per person. \nAny problems with booking\, please email highvibescrochet@outlook.com
URL:https://feelgoodcommunities.org/event/christmas-crochet-decorations-3/
LOCATION:Benito Lounge\, Chorlton\, 595\, 597 Wilbraham Rd\, Chorlton-cum-Hardy\, Manchester M21 9AJ\, Manchester\, Greater Manchester\, M21 9AJ\, United Kingdom
CATEGORIES:Christmas Crochet Decorations,High Vibes Crochet
ATTACH;FMTTYPE=image/png:https://feelgoodcommunities.org/wp-content/uploads/2025/10/Christmas-Crochette-3.png
ORGANIZER;CN="Feelgood Communities CIC":MAILTO:info@feelgoodcommunities.org
END:VEVENT
END:VCALENDAR